BEGIN:VCALENDAR
VERSION:2.0
METHOD:PUBLISH
CALSCALE:GREGORIAN
PRODID:-//WordPress - MECv7.28.0//EN
X-ORIGINAL-URL:https://nahwe.de/
X-WR-CALNAME:Nahwé
X-WR-CALDESC:Hauskirche für alle zwischen Mitte 20 und Ende 30
X-WR-TIMEZONE:Europe/Berlin
BEGIN:VTIMEZONE
TZID:Europe/Berlin
X-LIC-LOCATION:Europe/Berlin
BEGIN:DAYLIGHT
TZOFFSETFROM:+0100
TZOFFSETTO:+0200
TZNAME:CEST
DTSTART:20260329T030000
RRULE:FREQ=YEARLY;BYMONTH=03;BYDAY=-1SU
END:DAYLIGHT
BEGIN:STANDARD
TZOFFSETFROM:+0200
TZOFFSETTO:+0100
TZNAME:CET
DTSTART:20261025T020000
RRULE:FREQ=YEARLY;BYMONTH=10;BYDAY=4SU
END:STANDARD
END:VTIMEZONE
REFRESH-INTERVAL;VALUE=DURATION:PT1H
X-PUBLISHED-TTL:PT1H
X-MS-OLK-FORCEINSPECTOROPEN:TRUE
BEGIN:VEVENT
CLASS:PUBLIC
UID:MEC-f340f1b1f65b6df5b5e3f94d95b11daf@nahwe.de
DTSTART;TZID=Europe/Berlin:20260421T193000
DTEND;TZID=Europe/Berlin:20260421T201500
DTSTAMP:20240514T193151Z
RRULE:FREQ=MONTHLY;WKST=MO;BYDAY=1TH
EXDATE:20240820T173000Z,20260101T183000Z,20260402T173000Z
CREATED:20240514
LAST-MODIFIED:20260329
PRIORITY:5
SEQUENCE:6
TRANSP:OPAQUE
SUMMARY:Taizé-Gebet
DESCRIPTION:\nZweimal im Monat treffen wir uns zum Taizégebet: immer am ersten Donnerstag und am dritten Dienstag um 19:30 Uhr in unserer Hauskirche Nahwé (Adalbertstift 2).\n\n\n\nMit dabei sind kurze Texte aus der Bibel, Gebete, ein paar Minuten Stille und natürlich die meditativen mehrstimmigen Gesänge aus Taizé. Nach den ca. 30-45 Minuten Taizégebet bleiben wir noch zusammen, besorgen uns bei Bedarf etwas zu essen und verbringen den Abend in unseren Räumen.\n\n\n\nHinweis: Bringt bitte wenn möglich Hausschuhe oder dicke Socken mit, da unser Gebetsbereich eine schuhfreie Zone ist.\n
URL:https://nahwe.de/events/taize-gebet-2/
LOCATION:Adalbertstift 2, 52062 Aachen
ATTACH;FMTTYPE=image/png:https://nahwe.de/wp-content/uploads/2024/05/Taizegebet-quadratisch.png
END:VEVENT
BEGIN:VEVENT
CLASS:PUBLIC
UID:MEC-e3796ae838835da0b6f6ea37bcf8bcb7@nahwe.de
DTSTART;TZID=Europe/Berlin:20260423T193000
DTEND;TZID=Europe/Berlin:20260423T203000
DTSTAMP:20240711T200110Z
RRULE:FREQ=MONTHLY;WKST=MO;BYDAY=2TH
EXDATE:20240822T173000Z,20250123T183000Z,20250220T183000Z,20250227T183000Z,20250828T173000Z,20250925T173000Z,20251225T183000Z,20260108T183000Z,20260409T173000Z
CREATED:20240711
LAST-MODIFIED:20260329
PRIORITY:5
SEQUENCE:13
TRANSP:OPAQUE
SUMMARY:Zeit für Uns
DESCRIPTION:Hin und wieder brauchen wir „Zeit für Uns“\nWir wollen dafür Raum schaffen und mit euch die fortgeschrittene Woche ein bisschen ruhen lassen.\nFür den Anfang starten wir mit Taizé Musik vom Band denn im Kopf hatten wir die Momente nachts in der Kirche in Taizé.\nAber fest stehen tut nichts.\nDas Angebot soll euch geben was ihr braucht und wofür ihr bisher diese Woche nicht die Zeit und die Ruhe hattet.\nFür wen eine Stunde zu viel ist, der kann gerne etwas später leise dazustoßen.\n
URL:https://nahwe.de/events/zeit-fuer-uns/
LOCATION:Adalbertstift 2, 52062 Aachen
ATTACH;FMTTYPE=image/jpeg:https://nahwe.de/wp-content/uploads/2024/07/zeit_fuer_uns.jpeg
END:VEVENT
BEGIN:VEVENT
CLASS:PUBLIC
UID:MEC-051e4e127b92f5d98d3c79b195f2b291@nahwe.de
DTSTART;TZID=Europe/Berlin:20260509T150000
DURATION:PT5H
DTSTAMP:20260102T150812Z
RDATE;TZID=Europe/Berlin:20260110T150000,20260314T150000,20260411T150000,20260509T150000,20260613T150000
CREATED:20260102
LAST-MODIFIED:20260214
PRIORITY:5
SEQUENCE:6
TRANSP:OPAQUE
SUMMARY:Spielezeit
DESCRIPTION:Herzliche Einladung zur Spielezeit in Nahwé! In gemütlicher Runde testen wir jeden zweiten Samstag im Monat ab 15.o00 Uhr neue Gesellschaftsspiele und lassen die Klassiker wieder aufleben. Komm gerne vorbei und zeig uns dein Lieblingsspiel!\n
URL:https://nahwe.de/events/spielezeit-2/
LOCATION:Adalbertstift 2, 52062 Aachen
ATTACH;FMTTYPE=image/jpeg:https://nahwe.de/wp-content/uploads/2026/01/Spielezeit.jpg
END:VEVENT
BEGIN:VEVENT
CLASS:PUBLIC
UID:MEC-9188905e74c28e489b44e954ec0b9bca@nahwe.de
DTSTART;TZID=Europe/Berlin:20260428T180000
DTEND;TZID=Europe/Berlin:20260428T190000
DTSTAMP:20240514T194516Z
RDATE;TZID=Europe/Berlin:20240516T193000,20240424T073000,20240528T063000,20240625T063000,20240706T100000,20240821T063000,20240903T070000,20240918T063000,20250219T063000,20250402T063000,20250423T063000,20250429T060000,20250506T063000,20250526T053000,20250616T051500,20250708T060000,20250729T180000,20250819T180000,20250909T180000,20250930T180000,20251028T180000,20251111T180000,20251202T180000,20260113T190000,20260217T180000,20260310T180000,20260413T180000,20260428T180000
CREATED:20240514
LAST-MODIFIED:20260413
PRIORITY:5
SEQUENCE:28
TRANSP:OPAQUE
SUMMARY:Leitungsteam
DESCRIPTION:Das Nahwé-Leitungsteam trifft sich regelmäßig, um über aktuelle Themen und Anfragen zu reden.\nDu hast eine Frage, Anmerkung oder Initiative, die du gerne starten willst? Sprich gerne die Mitglieder des Leitungsteams direkt an oder kontaktiere uns auf dem Weg, der für dich am besten passt! Dein Anliegen wird dann beim nächsten Treffen besprochen.\nHier ( https://nahwe.de/#contact ) geht’s zu den Kontaktmöglichkeiten!\n
URL:https://nahwe.de/events/leitungsteam-2/
CATEGORIES:Team-Treffen
ATTACH;FMTTYPE=image/png:https://nahwe.de/wp-content/uploads/2024/05/Leitungsteam-Symbolbild.png
END:VEVENT
END:VCALENDAR
